BEGIN:VCALENDAR
VERSION:2.0
PRODID:-//Comunidad Peyote - ECPv5.16.4//NONSGML v1.0//EN
CALSCALE:GREGORIAN
METHOD:PUBLISH
X-WR-CALNAME:Comunidad Peyote
X-ORIGINAL-URL:https://comunidadpeyote.com
X-WR-CALDESC:Events for Comunidad Peyote
REFRESH-INTERVAL;VALUE=DURATION:PT1H
X-Robots-Tag:noindex
X-PUBLISHED-TTL:PT1H
BEGIN:VTIMEZONE
TZID:America/Denver
BEGIN:DAYLIGHT
TZOFFSETFROM:-0700
TZOFFSETTO:-0600
TZNAME:MDT
DTSTART:20220313T090000
END:DAYLIGHT
BEGIN:STANDARD
TZOFFSETFROM:-0600
TZOFFSETTO:-0700
TZNAME:MST
DTSTART:20221106T080000
END:STANDARD
END:VTIMEZONE
BEGIN:VEVENT
DTSTART;TZID=America/Denver:20221007T190000
DTEND;TZID=America/Denver:20221007T210000
DTSTAMP:20260425T111123
CREATED:20220816T193058Z
LAST-MODIFIED:20220816T193058Z
UID:1606-1665169200-1665176400@comunidadpeyote.com
SUMMARY:El show de la India Yuridia
DESCRIPTION:Ven y diviértete con el show de la INDIA YURIDIA en su gira “ALV RIGOBERTO”\, los boletos ya están a la venta.
URL:https://comunidadpeyote.com/eventos/indiayuridia/
LOCATION:Teatro del Pueblo\, Avenida Juan Escutia s/n\, Tepic\, Nayarit\, 63000\, Mexico
CATEGORIES:espectáculos
ATTACH;FMTTYPE=image/jpeg:https://comunidadpeyote.com/wp-content/uploads/2022/08/CP-flyer-rectangular-3.jpg
ORGANIZER;CN="Teatro%20del%20Pueblo":MAILTO:teatro.ali.chumacero@gmail.com
END:VEVENT
END:VCALENDAR