BEGIN:VCALENDAR
VERSION:2.0
PRODID:-//Comunidad Peyote - ECPv5.16.4//NONSGML v1.0//EN
CALSCALE:GREGORIAN
METHOD:PUBLISH
X-WR-CALNAME:Comunidad Peyote
X-ORIGINAL-URL:https://comunidadpeyote.com
X-WR-CALDESC:Events for Comunidad Peyote
REFRESH-INTERVAL;VALUE=DURATION:PT1H
X-Robots-Tag:noindex
X-PUBLISHED-TTL:PT1H
BEGIN:VTIMEZONE
TZID:America/Denver
BEGIN:DAYLIGHT
TZOFFSETFROM:-0700
TZOFFSETTO:-0600
TZNAME:MDT
DTSTART:20230312T090000
END:DAYLIGHT
BEGIN:STANDARD
TZOFFSETFROM:-0600
TZOFFSETTO:-0700
TZNAME:MST
DTSTART:20231105T080000
END:STANDARD
END:VTIMEZONE
BEGIN:VEVENT
DTSTART;TZID=America/Denver:20230730T160000
DTEND;TZID=America/Denver:20230730T170000
DTSTAMP:20260419T181225
CREATED:20230716T021014Z
LAST-MODIFIED:20230716T021014Z
UID:1779-1690732800-1690736400@comunidadpeyote.com
SUMMARY:Karim Juega: Una fiesta sorpresa
DESCRIPTION:Karim Juega es una divertida puesta en escena infantil\, llena de música\, baile y muchas sorpresas. Diviértete mientras reforzamos los valores junto a los personajes de esta divertida familia.
URL:https://comunidadpeyote.com/eventos/karim-juega-una-fiesta-sorpresa/
LOCATION:Teatro del Pueblo\, Avenida Juan Escutia s/n\, Tepic\, Nayarit\, 63000\, Mexico
CATEGORIES:niños,Teatro
ATTACH;FMTTYPE=image/png:https://comunidadpeyote.com/wp-content/uploads/2023/07/karim.png
ORGANIZER;CN="Teatro%20del%20Pueblo":MAILTO:teatro.ali.chumacero@gmail.com
END:VEVENT
END:VCALENDAR