BEGIN:VCALENDAR
VERSION:2.0
PRODID:-//Comunidad Peyote - ECPv5.16.4//NONSGML v1.0//EN
CALSCALE:GREGORIAN
METHOD:PUBLISH
X-ORIGINAL-URL:https://comunidadpeyote.com
X-WR-CALDESC:Events for Comunidad Peyote
REFRESH-INTERVAL;VALUE=DURATION:PT1H
X-Robots-Tag:noindex
X-PUBLISHED-TTL:PT1H
BEGIN:VTIMEZONE
TZID:America/Denver
BEGIN:DAYLIGHT
TZOFFSETFROM:-0700
TZOFFSETTO:-0600
TZNAME:MDT
DTSTART:20230312T090000
END:DAYLIGHT
BEGIN:STANDARD
TZOFFSETFROM:-0600
TZOFFSETTO:-0700
TZNAME:MST
DTSTART:20231105T080000
END:STANDARD
END:VTIMEZONE
BEGIN:VEVENT
DTSTART;TZID=America/Denver:20230701T180000
DTEND;TZID=America/Denver:20230701T180000
DTSTAMP:20260419T141845
CREATED:20230613T155007Z
LAST-MODIFIED:20230613T155008Z
UID:1714-1688234400-1688234400@comunidadpeyote.com
SUMMARY:Mamut
DESCRIPTION:Mamut es una obra biodramática que aborda el tema de la muerte como una consecuencia inevitable de la vida. La historia gira en torno al actor Ramiro Daniel\, quien en un taller de actuación imaginó la muerte de su padre. Sin embargo\, lo que se imaginó en un principio ahora se ha vuelto una realidad dolorosa. Ramiro se siente culpable y se enfrenta a la necesidad de comprender y lidiar con la pérdida. \nLa obra se caracteriza por ser unipersonal\, lo que permite que el actor tenga un contacto cercano con el público. Durante aproximadamente una hora\, Ramiro utiliza diferentes dispositivos escénicos para generar una conexión emotiva con los espectadores. A pesar de no contar con elementos escenográficos elaborados\, la obra se apoya en objetos sencillos como un juego de jenga\, un celular\, unas cervezas\, y la propia historia personal del actor.
URL:https://comunidadpeyote.com/eventos/mamut/
LOCATION:Casa Violeta\, Sierra de Picachos 52\, Tepic\, Nayarit\, 63168\, Mexico
CATEGORIES:espectáculos,Teatro
ATTACH;FMTTYPE=image/png:https://comunidadpeyote.com/wp-content/uploads/2023/06/mamutteatro-1.png
ORGANIZER;CN="Casa%20Violeta":MAILTO:restaurant@lacasavioleta.com.mx
END:VEVENT
END:VCALENDAR