BEGIN:VCALENDAR
VERSION:2.0
PRODID:-//Comunidad Peyote - ECPv5.16.4//NONSGML v1.0//EN
CALSCALE:GREGORIAN
METHOD:PUBLISH
X-ORIGINAL-URL:https://comunidadpeyote.com
X-WR-CALDESC:Events for Comunidad Peyote
REFRESH-INTERVAL;VALUE=DURATION:PT1H
X-Robots-Tag:noindex
X-PUBLISHED-TTL:PT1H
BEGIN:VTIMEZONE
TZID:America/Denver
BEGIN:DAYLIGHT
TZOFFSETFROM:-0700
TZOFFSETTO:-0600
TZNAME:MDT
DTSTART:20230312T090000
END:DAYLIGHT
BEGIN:STANDARD
TZOFFSETFROM:-0600
TZOFFSETTO:-0700
TZNAME:MST
DTSTART:20231105T080000
END:STANDARD
END:VTIMEZONE
BEGIN:VEVENT
DTSTART;TZID=America/Denver:20230422T170000
DTEND;TZID=America/Denver:20230422T170000
DTSTAMP:20260422T103531
CREATED:20230406T214216Z
LAST-MODIFIED:20230406T214217Z
UID:1689-1682182800-1682182800@comunidadpeyote.com
SUMMARY:Eko Street Demon en concierto
DESCRIPTION:Concierto de hip hop. Evento con cupo limitado. \nPara más información\, contacta a los organizadores.
URL:https://comunidadpeyote.com/eventos/ekostreetdemon/
LOCATION:Foro Trombob\, Fresno 111\, colonia San Juan\, Tepic\, Nayarit\, 63130\, Mexico
CATEGORIES:espectáculos,Música
ATTACH;FMTTYPE=image/jpeg:https://comunidadpeyote.com/wp-content/uploads/2023/04/eko-street.jpeg
END:VEVENT
BEGIN:VEVENT
DTSTART;TZID=America/Denver:20230422T180000
DTEND;TZID=America/Denver:20230422T180000
DTSTAMP:20260422T103531
CREATED:20230406T212517Z
LAST-MODIFIED:20230406T212517Z
UID:1686-1682186400-1682186400@comunidadpeyote.com
SUMMARY:María José en concierto
DESCRIPTION:Concierto de la cantante María José en Tepic.
URL:https://comunidadpeyote.com/eventos/mariajose/
LOCATION:Palenque de la Feria\, Av. Rey Nayar Antiguo Aeropuerto\, Col. Aviación\, Tepic\, Nayarit\, 63190\, Mexico
CATEGORIES:espectáculos,Música
ATTACH;FMTTYPE=image/jpeg:https://comunidadpeyote.com/wp-content/uploads/2023/04/mariajose.jpeg
END:VEVENT
END:VCALENDAR