BEGIN:VCALENDAR
VERSION:2.0
PRODID:-//Comunidad Peyote - ECPv5.16.4//NONSGML v1.0//EN
CALSCALE:GREGORIAN
METHOD:PUBLISH
X-WR-CALNAME:Comunidad Peyote
X-ORIGINAL-URL:https://comunidadpeyote.com
X-WR-CALDESC:Events for Comunidad Peyote
REFRESH-INTERVAL;VALUE=DURATION:PT1H
X-Robots-Tag:noindex
X-PUBLISHED-TTL:PT1H
BEGIN:VTIMEZONE
TZID:America/Denver
BEGIN:DAYLIGHT
TZOFFSETFROM:-0700
TZOFFSETTO:-0600
TZNAME:MDT
DTSTART:20230312T090000
END:DAYLIGHT
BEGIN:STANDARD
TZOFFSETFROM:-0600
TZOFFSETTO:-0700
TZNAME:MST
DTSTART:20231105T080000
END:STANDARD
END:VTIMEZONE
BEGIN:VEVENT
DTSTART;TZID=America/Denver:20230414T200000
DTEND;TZID=America/Denver:20230414T200000
DTSTAMP:20260423T011816
CREATED:20230406T193910Z
LAST-MODIFIED:20230406T193923Z
UID:1672-1681502400-1681502400@comunidadpeyote.com
SUMMARY:Noche de rap
DESCRIPTION:Noche de rap\, con la participación de los mejores exponentes del rap nayarita. \nY si quieres participar\, habrá micrófono abierto y el escenario para ti.
URL:https://comunidadpeyote.com/eventos/nochederap/
LOCATION:Club Bar JG\, Jacarandas 186 A\, Tepic\, Nayarit\, 63130\, Mexico
CATEGORIES:espectáculos,Música
ATTACH;FMTTYPE=image/jpeg:https://comunidadpeyote.com/wp-content/uploads/2023/04/Noche-de-rap.jpeg
END:VEVENT
END:VCALENDAR