BEGIN:VCALENDAR
VERSION:2.0
PRODID:-//Comunidad Peyote - ECPv5.16.4//NONSGML v1.0//EN
CALSCALE:GREGORIAN
METHOD:PUBLISH
X-ORIGINAL-URL:https://comunidadpeyote.com
X-WR-CALDESC:Events for Comunidad Peyote
REFRESH-INTERVAL;VALUE=DURATION:PT1H
X-Robots-Tag:noindex
X-PUBLISHED-TTL:PT1H
BEGIN:VTIMEZONE
TZID:America/Denver
BEGIN:DAYLIGHT
TZOFFSETFROM:-0700
TZOFFSETTO:-0600
TZNAME:MDT
DTSTART:20230312T090000
END:DAYLIGHT
BEGIN:STANDARD
TZOFFSETFROM:-0600
TZOFFSETTO:-0700
TZNAME:MST
DTSTART:20231105T080000
END:STANDARD
END:VTIMEZONE
BEGIN:VEVENT
DTSTART;TZID=America/Denver:20230701T180000
DTEND;TZID=America/Denver:20230701T180000
DTSTAMP:20260419T123326
CREATED:20230613T155007Z
LAST-MODIFIED:20230613T155008Z
UID:1714-1688234400-1688234400@comunidadpeyote.com
SUMMARY:Mamut
DESCRIPTION:Mamut es una obra biodramática que aborda el tema de la muerte como una consecuencia inevitable de la vida. La historia gira en torno al actor Ramiro Daniel\, quien en un taller de actuación imaginó la muerte de su padre. Sin embargo\, lo que se imaginó en un principio ahora se ha vuelto una realidad dolorosa. Ramiro se siente culpable y se enfrenta a la necesidad de comprender y lidiar con la pérdida. \nLa obra se caracteriza por ser unipersonal\, lo que permite que el actor tenga un contacto cercano con el público. Durante aproximadamente una hora\, Ramiro utiliza diferentes dispositivos escénicos para generar una conexión emotiva con los espectadores. A pesar de no contar con elementos escenográficos elaborados\, la obra se apoya en objetos sencillos como un juego de jenga\, un celular\, unas cervezas\, y la propia historia personal del actor.
URL:https://comunidadpeyote.com/eventos/mamut/
LOCATION:Casa Violeta\, Sierra de Picachos 52\, Tepic\, Nayarit\, 63168\, Mexico
CATEGORIES:espectáculos,Teatro
ATTACH;FMTTYPE=image/png:https://comunidadpeyote.com/wp-content/uploads/2023/06/mamutteatro-1.png
ORGANIZER;CN="Casa%20Violeta":MAILTO:restaurant@lacasavioleta.com.mx
END:VEVENT
BEGIN:VEVENT
DTSTART;TZID=America/Denver:20230706T190000
DTEND;TZID=America/Denver:20230706T190000
DTSTAMP:20260419T123326
CREATED:20230624T184936Z
LAST-MODIFIED:20230624T184936Z
UID:1755-1688670000-1688670000@comunidadpeyote.com
SUMMARY:Iremos juntos\, el musical
DESCRIPTION:Revive en  la emoción y la magia que marcó a una generación entera. Baila y canta los éxitos aclamados de Travolta y Olivia\, de una de las obras más conocidas en el teatro musical.\n¡No te lo puedes perder!
URL:https://comunidadpeyote.com/eventos/iremos-juntos-el-musical/
LOCATION:Teatro del Pueblo\, Avenida Juan Escutia s/n\, Tepic\, Nayarit\, 63000\, Mexico
CATEGORIES:espectáculos,Música,Teatro
ATTACH;FMTTYPE=image/png:https://comunidadpeyote.com/wp-content/uploads/2023/06/iremosjuntos.png
ORGANIZER;CN="Teatro%20del%20Pueblo":MAILTO:teatro.ali.chumacero@gmail.com
END:VEVENT
BEGIN:VEVENT
DTSTART;TZID=America/Denver:20230715T180000
DTEND;TZID=America/Denver:20230715T180000
DTSTAMP:20260419T123326
CREATED:20230624T183953Z
LAST-MODIFIED:20230624T183953Z
UID:1750-1689444000-1689444000@comunidadpeyote.com
SUMMARY:La maravillosa aventura del Principito
DESCRIPTION:Adaptación del clásico de Antoine de Saint-Exupéry “El principito”\, en la que se combinan actores y marionetas. La puesta en escena incluye canciones creadas por la compañía. \nSinopsis: El protagonista de la historia se encuentra con un pequeño y peculiar niño abandonado a la mitad del desierto del Sahara\, para darle una lección de vida que nunca olvidará.
URL:https://comunidadpeyote.com/eventos/elprincipito/
LOCATION:Auditorio Vida\, Olivo 210\, colonia Versalles\, Tepic\, Nayarit\, 63138\, Mexico
CATEGORIES:espectáculos,niños,Teatro
ATTACH;FMTTYPE=image/png:https://comunidadpeyote.com/wp-content/uploads/2023/06/principito.png
END:VEVENT
BEGIN:VEVENT
DTSTART;TZID=America/Denver:20230716T200000
DTEND;TZID=America/Denver:20230716T200000
DTSTAMP:20260419T123326
CREATED:20230624T185345Z
LAST-MODIFIED:20230624T185346Z
UID:1757-1689537600-1689537600@comunidadpeyote.com
SUMMARY:Kevin Kaarl en concierto
DESCRIPTION:Con tan sólo 21 años\, el joven músico mexicano Kevin Kaarl sostiene entre su voz\, sus canciones y su guitarra una carrera musical en creces que no hace más que seguir captando la atención del público y adquirir nuevos seguidores. \nDotado de un espíritu entusiasta\, Kaarl ha anunciado algunas fechas de su nuevo tour Paris Texas Tour\, el cual lo llevará a pisar distintas partes de la República Mexicana\, tales como Tijuana\, Guadalajara\, Oaxaca y Querétaro\, así como Argentina\, España\, Alemania\, Paraguay y Chile. El cantante ha expuesto que aún queda pendiente por anunciar las demás presentaciones que tendrán lugar en países como Francia\, Perú\, Colombia y Holanda.
URL:https://comunidadpeyote.com/eventos/kevinkaarl/
LOCATION:Teatro del Pueblo\, Avenida Juan Escutia s/n\, Tepic\, Nayarit\, 63000\, Mexico
CATEGORIES:espectáculos,Música
ATTACH;FMTTYPE=image/png:https://comunidadpeyote.com/wp-content/uploads/2023/06/kevinkaarl.png
ORGANIZER;CN="Teatro%20del%20Pueblo":MAILTO:teatro.ali.chumacero@gmail.com
END:VEVENT
BEGIN:VEVENT
DTSTART;TZID=America/Denver:20230721T190000
DTEND;TZID=America/Denver:20230721T190000
DTSTAMP:20260419T123326
CREATED:20230716T013354Z
LAST-MODIFIED:20230716T021531Z
UID:1771-1689966000-1689966000@comunidadpeyote.com
SUMMARY:Gala de ópera
DESCRIPTION:La soprano internacional Neivi Martínez llega al Centro de Arte Contemporáneo Emilia Ortiz\, para ofrecer una Gala de Ópera sin precedentes y totalmente gratuita\, en compañía del barítono Pablo Atahualpa y el tenor Emmanuel Martín del Campo.
URL:https://comunidadpeyote.com/eventos/galadeopera/
LOCATION:Centro de Arte Contemporaneo “Emilia Ortiz”\, Hidalgo 17 Col. Centro\, Tepic\, Nayarit\, 63000\, Mexico
CATEGORIES:espectáculos,Música
ATTACH;FMTTYPE=image/png:https://comunidadpeyote.com/wp-content/uploads/2023/07/opera.png
ORGANIZER;CN="Cecan":MAILTO:cecan.difusion@gmail.com
END:VEVENT
BEGIN:VEVENT
DTSTART;TZID=America/Denver:20230729T180000
DTEND;TZID=America/Denver:20230729T180000
DTSTAMP:20260419T123326
CREATED:20230716T020052Z
LAST-MODIFIED:20230716T021610Z
UID:1777-1690653600-1690653600@comunidadpeyote.com
SUMMARY:Cama para cinco
DESCRIPTION:Cinco historias que se cuentas en la intimidad de las sábanas; una mezcla interesante de humor\, sexo\, suspenso y sin nada de pudor. \nCon Armando Hernández\, Gaby Platas\, Andrea Noli\, Germán Girotti\, Mauricio Castillo\, Diana Navarro y María Rebeca
URL:https://comunidadpeyote.com/eventos/camaparacinco/
LOCATION:Teatro del Pueblo\, Avenida Juan Escutia s/n\, Tepic\, Nayarit\, 63000\, Mexico
CATEGORIES:espectáculos,Teatro
ATTACH;FMTTYPE=image/png:https://comunidadpeyote.com/wp-content/uploads/2023/07/cama.png
ORGANIZER;CN="Teatro%20del%20Pueblo":MAILTO:teatro.ali.chumacero@gmail.com
END:VEVENT
END:VCALENDAR