BEGIN:VCALENDAR
VERSION:2.0
PRODID:-//Comunidad Peyote - ECPv5.16.4//NONSGML v1.0//EN
CALSCALE:GREGORIAN
METHOD:PUBLISH
X-WR-CALNAME:Comunidad Peyote
X-ORIGINAL-URL:https://comunidadpeyote.com
X-WR-CALDESC:Events for Comunidad Peyote
REFRESH-INTERVAL;VALUE=DURATION:PT1H
X-Robots-Tag:noindex
X-PUBLISHED-TTL:PT1H
BEGIN:VTIMEZONE
TZID:America/Denver
BEGIN:DAYLIGHT
TZOFFSETFROM:-0700
TZOFFSETTO:-0600
TZNAME:MDT
DTSTART:20230312T090000
END:DAYLIGHT
BEGIN:STANDARD
TZOFFSETFROM:-0600
TZOFFSETTO:-0700
TZNAME:MST
DTSTART:20231105T080000
END:STANDARD
END:VTIMEZONE
BEGIN:VEVENT
DTSTART;TZID=America/Denver:20230616T080000
DTEND;TZID=America/Denver:20230616T170000
DTSTAMP:20260419T141452
CREATED:20230613T160729Z
LAST-MODIFIED:20230613T161128Z
UID:1720-1686902400-1686934800@comunidadpeyote.com
SUMMARY:El divo y sus grandes divas
DESCRIPTION:Gran concierto sinfónico bajo la dirección de María Guadalupe González Fregoso directora de la Orquesta Sinfónica Nayarita y Pedro Aguirre Barco\, director del Mariachi Monumental Quevedeño. \n\nCon participación estelar: Francisco Aguirre Yajaira Lizeth Orozco Rodriguez\, Loreli Abelar y María José Pérez; grandes talentos nayaritas.
URL:https://comunidadpeyote.com/eventos/eldivo/
LOCATION:Teatro del Pueblo\, Avenida Juan Escutia s/n\, Tepic\, Nayarit\, 63000\, Mexico
CATEGORIES:espectáculos,Música
ATTACH;FMTTYPE=image/png:https://comunidadpeyote.com/wp-content/uploads/2023/06/eldivo.png
ORGANIZER;CN="Teatro%20del%20Pueblo":MAILTO:teatro.ali.chumacero@gmail.com
END:VEVENT
BEGIN:VEVENT
DTSTART;TZID=America/Denver:20230620T160000
DTEND;TZID=America/Denver:20230620T170000
DTSTAMP:20260419T141452
CREATED:20230617T164107Z
LAST-MODIFIED:20230617T164107Z
UID:1725-1687276800-1687280400@comunidadpeyote.com
SUMMARY:La fiesta de las décadas
DESCRIPTION:Obra musical producida por los estudiantes de secundaria del Colegio “Simón Bolívar”. \nAsiste y diviértete!
URL:https://comunidadpeyote.com/eventos/fiestadecadas/
LOCATION:Teatro del Pueblo\, Avenida Juan Escutia s/n\, Tepic\, Nayarit\, 63000\, Mexico
CATEGORIES:espectáculos,Teatro
ATTACH;FMTTYPE=image/png:https://comunidadpeyote.com/wp-content/uploads/2023/06/fiestadecadas.png
ORGANIZER;CN="Colegio%20%22Simon%20Bolivar%22":MAILTO:colegio@simonbolivar.edu.mx
END:VEVENT
BEGIN:VEVENT
DTSTART;TZID=America/Denver:20230621T200000
DTEND;TZID=America/Denver:20230621T200000
DTSTAMP:20260419T141452
CREATED:20230613T155627Z
LAST-MODIFIED:20230613T155627Z
UID:1717-1687377600-1687377600@comunidadpeyote.com
SUMMARY:"Por el placer de vivir" con César Lozano
DESCRIPTION:Después de años de ausencia\, regresa a Tepic el conferencista más divertido de habla hispana\,  con su conferencia “Por el placer de vivir\, mi reencuentro contigo”.
URL:https://comunidadpeyote.com/eventos/cesarlozano/
LOCATION:Teatro del Pueblo\, Avenida Juan Escutia s/n\, Tepic\, Nayarit\, 63000\, Mexico
CATEGORIES:espectáculos,stand up
ATTACH;FMTTYPE=image/png:https://comunidadpeyote.com/wp-content/uploads/2023/06/CesarLozano.png
ORGANIZER;CN="Teatro%20del%20Pueblo":MAILTO:teatro.ali.chumacero@gmail.com
END:VEVENT
END:VCALENDAR